Workbook

Sheet Paraiškų žurnalas
I2: 2023–2027 m. programinio laikotarpio vietos projektų, pateiktų pagal vietos plėtros strategijas, įgyvendinamas bendruomenių inicijuotos vietos plėtros būdu, administravimo procedūros aprašo
K3: 3 priedas
B7: PRIENŲ RAJONO VIETOS VEIKLOS GRUPĖ
K8: (VPS vykdytojos pavadinimas)
F9: INFORMACIJA APIE VIETOS PROJEKTŲ PARAIŠKAS
B11: Eil. Nr. | C11: Kvietimo Nr. | D11: Kvietimo pabaigos data | E11: Vietos projekto paraiškos gavimo data | F11: Vietos projekto paraiškos atpažinties (registracijos) kodas (nurodomas VPS vykdytojos VP paraiškos registravimo metu suteiktas VP atpažinties kodas) | G11: Vietos projekto paraiškėjo kodas (nurodomas pareiškėjo JAR kodas, o jei pareiškėjas yra fizinis asmuo - nurodomi keturi paskutiniai asmnes kodo skaičiai ) | H11: Pavadinimas (jei pareiškėjas juridinis asmuo, iš JAR) / vardas, pavardė (jei pareiškėjas fizinis asmuo) | I11: Vietos projekto pavadinimas (nurodoma pagal VP pagal paraiškoje pateiktą informaciją, sutikrinant su informacija oficialiuose registruose) | J11: Prašoma paramos suma vietos projektui įgyvendinti, Eur (nurodoma pagal paraiškoje pateiktus duomenis)) | K11: Vietos projekto VPS priemonė (nurodoma VPS priemonės, pagal kurią gauti vietos projektai, kodas, atitinkamtis VPS Excel dalies 7 lentelės 8 stuplelio duomenis) | L11: NMA paraiškos numeris | M11: VVG PAK data (fizinė posėdžio data) | N11: Paraiškos perdavimo NMA data | O11: Paraiškos išregistravimo/atmetimo VVG data | P11: VVG rezervinio sąrašo galiojimo laikas | Q11: Administravimo išlaidų suma
Q13: FN proc.
Q14: 25
B15: =[1]Sheet1!B15 -> 1. | C15: =[1]Sheet1!C15 -> 1 | D15: 45468 | E15: 45468 | F15: PRIE-LEADER-09-1-1 | G15: 171112458 | H15: Veiverių seniūnijos bendruomenės centras | I15: Iš kartos į kartą | J15: 5000 | K15: PRIE-LEADER-20VVG-09-05 | L15: 20VS-PV-24-2-05895-PR001 | M15: 45516 | N15: 45524 | Q15: =+J15*$Q$14/100 -> 1250 | R15: Šitos sumos koreguosis. Jei paraiška atmesta, išsitrina išlaidų suma
B16: =[1]Sheet1!B16 -> 2. | C16: =[1]Sheet1!C16 -> 1 | D16: 45468 | E16: 45468 | F16: PRIE-LEADER-09-1-2 | G16: 306460108 | H16: Bendruomenė "Balbieriškis juda" | I16: Balbieriškio bendruomenės veiklos aktyvinimas | J16: 5000 | K16: PRIE-LEADER-20VVG-09-05 | L16: 20VS-PV-24-2-05896-PR001 | M16: 45516 | N16: 45524 | Q16: =+J16*$Q$14/100 -> 1250
B17: =[1]Sheet1!B17 -> 3. | C17: =[1]Sheet1!C17 -> 1 | D17: 45468 | E17: 45468 | F17: PRIE-LEADER-09-1-3 | G17: 302581297 | H17: Prienų rajono kaimo bendruomenė "Stakliškės" | I17: Kultūra per atmintį ir vietos identitetą | J17: 5000 | K17: PRIE-LEADER-20VVG-09-05 | L17: 20VS-PV-24-2-05897-PR001 | M17: 45516 | N17: 45524 | Q17: =+J17*$Q$14/100 -> 1250
B18: =[1]Sheet1!B18 -> 4. | C18: =[1]Sheet1!C18 -> 1 | D18: 45468 | E18: 45468 | F18: PRIE-LEADER-09-1-4 | G18: 301667537 | H18: Asociacija "Žemaitkiemio krašto bendruomenė" | I18: Vaikų ir jaunimo stovyklos organizavimas, kulinarinio paveldo ir žolelių edukacijos vykdymas Žemaitkiemyje | J18: 5000 | K18: PRIE-LEADER-20VVG-09-05 | L18: 20VS-PV-24-2-05898-PR001 | M18: 45516 | N18: 45524 | Q18: =+J18*$Q$14/100 -> 1250
B19: =[1]Sheet1!B19 -> 5. | C19: =[1]Sheet1!C19 -> 1 | D19: 45468 | E19: 45468 | F19: PRIE-LEADER-09-1-5 | G19: 300055576 | H19: Prienų rajono Šilavoto bendruomenės centras | I19: Gera būti drauge | J19: 5000 | K19: PRIE-LEADER-20VVG-09-05 | L19: 20VS-PV-24-2-05899-PR001 | M19: 45516 | N19: 45524 | Q19: =+J19*$Q$14/100 -> 1250
B20: =[1]Sheet1!B20 -> 6. | C20: =[1]Sheet1!C20 -> 1 | D20: 45468 | E20: 45468 | F20: PRIE-LEADER-09-1-6 | G20: 171116321 | H20: Pakuonio krašto bendruomenė | I20: Žolynais kvepiančiu taku | J20: 5000 | K20: PRIE-LEADER-20VVG-09-05 | L20: 20VS-PV-24-2-05900-PR001 | M20: 45516 | N20: 45524 | Q20: =+J20*$Q$14/100 -> 1250
B21: =[1]Sheet1!B21 -> 7. | C21: =[1]Sheet1!C21 -> 1 | D21: 45468 | E21: 45468 | F21: PRIE-LEADER-09-1-7 | G21: 171116855 | H21: Išlaužo seniūnijos kaimų bendruomenė | I21: Socialinės įtraukties didinimas Išlaužo seniūnijos bendruomenės veikloje taikant socialinės inovacijos patyriminį ugdymą | J21: 5000 | K21: PRIE-LEADER-20VVG-09-05 | L21: 20VS-PV-24-2-05901-PR001 | M21: 45516 | N21: 45524 | O21: 45588 | Q21: 0
B22: =[1]Sheet1!B22 -> 8. | C22: 2 | D22: 45490 | E22: 45490 | F22: PRIE-LEADER-10-2-1 | G22: 302765906 | H22: Bendruomenė "Abipus Peršėkės" | I22: "Tobulėjimo horizontai" | J22: 13737 | K22: PRIE-LEADER-20VVG-10-06 | L22: 20VS-PV-24-2-05992-PR001 | M22: 45516 | N22: 45524 | Q22: =+J22*$Q$14/100 -> 3434.25
B23: =[1]Sheet1!B23 -> 9. | C23: 3 | D23: 45582 | E23: 45582 | F23: PRIE-LEADER-07-3-1 | G23: 302760453 | H23: Želkūnų kaimo bendruomenė | I23: Bendruomenės ekonominės veiklos skatinimas | J23: 22242.92 | K23: PRIE-LEADER-20VVG-07-04 | L23: 20VS-PV-24-2-06765-PR001 | M23: 45614 | N23: 45621 | Q23: =+J23*$Q$14/100 -> 5560.73
B24: 10. | C24: 4 | D24: 45617 | E24: 45616 | F24: PRIE-LEADER-03-4-1 | G24: 307021594 | H24: MB "Simuka" | I24: MB "Simuka" verslo kūrimas | J24: 71378.98 | K24: PRIE-LEADER-20VVG-03-01 | L24: 20VS-PV-24-2-07896-PR001 | M24: 45645 | O24: 45694 | Q24: 0
B25: 11. | C25: 4 | D25: 45617 | E25: 45616 | F25: PRIE-LEADER-03-4-2 | G25: 306375686 | H25: MB "Mindrena" | I25: MB "Mindrena" verslo plėtra | J25: 99450 | K25: PRIE-LEADER-20VVG-03-01 | L25: 20VS-PV-24-2-07895-PR001 | M25: 45645 | O25: 45694 | Q25: 0
B26: 12. | C26: 4 | D26: 45617 | E26: 45617 | F26: PRIE-LEADER-03-4-3 | G26: 48005070268 | H26: Ūkininkė FA | I26: Kaimo turizmo verslo pradžia Alšios panorama | J26: 99999.47 | K26: PRIE-LEADER-20VVG-03-01 | L26: 20VS-PV-24-2-07905-PR001 | M26: 45645 | O26: 45694 | Q26: 0
B27: 13. | C27: 4 | D27: 45617 | E27: 45617 | F27: PRIE-LEADER-03-4-4 | G27: 307027832 | H27: MB "Gerustas" | I27: MB "Gerustas" verslo kūrimas | J27: 99450 | K27: PRIE-LEADER-20VVG-03-01 | L27: 20VS-PV-24-2-07906-PR001 | M27: 45645 | O27: 45694 | Q27: 0
B28: 14. | C28: 4 | D28: 45617 | E28: 45617 | F28: PRIE-LEADER-03-4-5 | G28: 47706230690 | H28: Tamara Lazauskienė | I28: Gamtos SPA | J28: 39642.16 | K28: PRIE-LEADER-20VVG-03-01 | L28: 20VS-PV-24-2-07907-PR001 | M28: 45645 | O28: 45694 | Q28: 0
B29: 15. | C29: 4 | D29: 45617 | E29: 45617 | F29: PRIE-LEADER-03-4-6 | G29: 38110050486 | H29: Ūkininkas FA | I29: Inovatyvaus poilsio komplekso prie Veršiuko ežero, Gedanonių kaime, verslo pradžia | J29: 99999.95 | K29: PRIE-LEADER-20VVG-03-01 | L29: 20VS-PV-24-2-07908-PR001 | M29: 45645 | O29: 45694 | Q29: 0
B30: 16. | C30: 4 | D30: 45617 | E30: 45617 | F30: PRIE-LEADER-03-4-7 | G30: 39505013015 | H30: Ūkininkas FA | I30: Naujų darbo vietų kūrimas ir žiedinės ekonomikos skatinimas Prienų rajone kuriant automobilių kietųjų dalelių filtrų restauravimo verslą | J30: 91178.81 | K30: PRIE-LEADER-20VVG-03-01 | L30: 20VS-PV-24-2-07910-PR001 | M30: 45645 | N30: 45666 | Q30: =+J30*$Q$14/100 -> 22794.702
B31: 17. | C31: 4 | D31: 45617 | E31: 45617 | F31: PRIE-LEADER-03-4-8 | G31: 305951677 | H31: UAB "Donis" | I31: UAB "Donis" verslo plėtra | J31: 53979.48 | K31: PRIE-LEADER-20VVG-03-01 | L31: 20VS-PV-24-2-08013-PR001 | M31: 45645 | O31: 45694 | Q31: 0
B32: 18. | C32: 4 | D32: 45617 | E32: 45617 | F32: PRIE-LEADER-03-4-9 | G32: 38605281897 | H32: FA | I32: Poilsio ir sveikatingumo erdvės "4 miškai" sukūrimas | J32: 33583.54 | K32: PRIE-LEADER-20VVG-03-01 | L32: 20VS-PV-24-2-07913-PR001 | M32: 45645 | O32: 45694 | Q32: 0
B33: 19. | C33: 4 | D33: 45617 | E33: 45617 | F33: PRIE-LEADER-03-4-10 | G33: 49305180662 | H33: FA | I33: Kaimo turizmo verslo pradžia | J33: 54667.72 | K33: PRIE-LEADER-20VVG-03-01 | L33: 20VS-PV-24-2-08014-PR001 | M33: 45645 | O33: 45694 | Q33: 0
B34: 20. | C34: 4 | D34: 45617 | E34: 45617 | F34: PRIE-LEADER-03-4-11 | G34: 306695234 | H34: MB "Alternatyvi strategija" | I34: Inovatyvūs renginių vaizdo sprendimai | J34: 94377.92 | K34: PRIE-LEADER-20VVG-03-01 | L34: 20VS-PV-24-2-07914-PR001 | M34: 45645 | N34: 45666 | Q34: =+J34*$Q$14/100 -> 23594.48
B35: 21. | C35: 4 | D35: 45617 | E35: 45617 | F35: PRIE-LEADER-03-4-12 | G35: 304915518 | H35: UAB "Asdanga" | I35: UAB "Asdanga" verslo plėtra | J35: 58240 | K35: PRIE-LEADER-20VVG-03-01 | L35: 20VS-PV-24-2-07915-PR001 | M35: 45645 | N35: 45666 | Q35: =+J35*$Q$14/100 -> 14560
B36: 22. | C36: 6 | D36: 45715 | E36: 45715 | F36: PRIE-LEADER-09-6-1 | G36: 304518858 | H36: Jiezno kraštiečių bendruomenė | I36: "Tradicija, dabartis, ateitis-Jiezno krašto šventėje" | J36: 7000 | K36: PRIE-LEADER-20VVG-09-05 | L36: 20VS-PV-25-2-00282-PR001 | M36: 45735 | N36: 45735 | Q36: =+J36*$Q$14/100 -> 1750
B37: 23. | C37: 6 | D37: 45715 | E37: 45715 | F37: PRIE-LEADER-09-6-2 | G37: 300620794 | H37: Bendruomenė "Jiestrakis" | I37: "Visiems ir kiekvienam" | J37: 7000 | K37: PRIE-LEADER-20VVG-09-05 | L37: 20VS-PV-25-2-00283-PR001 | M37: 45735 | N37: 45735
B38: 24. | C38: 6 | D38: 45715 | E38: 45715 | F38: PRIE-LEADER-09-6-3 | G38: 302765906 | H38: Bendruomenė "Abipus Peršėkės" | I38: "Susitiksime prie Ringio ir Peršėkės" | J38: 7000 | K38: PRIE-LEADER-20VVG-09-05 | L38: 20VS-PV-25-2-00284-PR001 | M38: 45735 | N38: 45735
B39: 25. | C39: 6 | D39: 45715 | E39: 45715 | F39: PRIE-LEADER-09-6-4 | G39: 171117957 | H39: Skriaudžių kaimo bendruomenė | I39: "Iš kartos į kartą" | J39: 7000 | K39: PRIE-LEADER-20VVG-09-05 | L39: 20VS-PV-25-2-00285-PR001 | M39: 45735 | N39: 45735
B40: 26. | C40: 6 | D40: 45715 | E40: 45715 | F40: PRIE-LEADER-09-6-5 | G40: 305553513 | H40: Noreikiškių kaimo (prie Juodžio ežero) bendruomenė | I40: "Bendruomenių jėga kultūros sintezėje" | J40: 7000 | K40: PRIE-LEADER-20VVG-09-05 | L40: 20VS-PV-25-2-00286-PR001 | M40: 45735 | N40: 45735 | Q40: =+J40*$Q$14/100 -> 1750
B41: 27. | C41: 6 | D41: 45715 | E41: 45715 | F41: PRIE-LEADER-09-6-6 | G41: 300570601 | H41: Prienų rajono Ašmintos kadastrinės vietovės kaimo bendruomenė "Ošvenčia" | I41: "Dirbant kartu-idėjas įgyvendinti smagu" | J41: 7000 | K41: PRIE-LEADER-20VVG-09-05 | L41: 20VS-PV-23-1-01742-PR001 | M41: 45735 | N41: 45735 | Q41: =+J41*$Q$14/100 -> 1750
B42: 28. | C42: 7 | D42: 45734 | E42: 45734 | F42: PRIE-LEADER-10-7-1 | G42: 300570601 | H42: Prienų rajono Ašmintos kadastrinės vietovės kaimo bendruomenė "Ošvenčia" | I42: "Mokymasis per gerąją patirtį" | J42: 13998.26 | K42: PRIE-LEADER-20VVG-10-06 | L42: 20VS-PV-25-2-01006-PR001 | M42: 45742 | N42: 45743 | Q42: =+J42*$Q$14/100 -> 3499.565
B43: 29. | C43: 9 | D43: 45839 | E43: 45834 | F43: PRIE-LEADER-03-9-1 | G43: 306375686 | H43: MB "Mindrena" | I43: MB "Mindrena" verslo plėtra | J43: 89050 | K43: PRIE-LEADER-20VVG-03-01 | L43: 20VS-PV-25-2-03540-PR001
B44: 30. | C44: 9 | D44: 45839 | E44: 45835 | F44: PRIE-LEADER-03-9-2 | G44: 48005070268 | H44: Ūkininkė FA | I44: Kaimo turizmo "Energijos sodyba" įkūrimas | J44: 49997.88 | K44: PRIE-LEADER-20VVG-03-01 | L44: 20VS-PV-25-2-03548-PR001
B45: 31. | C45: 9 | D45: 45839 | E45: 45838 | F45: PRIE-LEADER-03-9-3 | G45: 306712790 | H45: MB Čiuožia stogas | I45: "Aviacinis turizmas" | J45: 57776.55 | K45: PRIE-LEADER-20VVG-03-01 | L45: 20VS-PV-25-2-03545-PR001
B46: 32. | C46: 9 | D46: 45839 | E46: 45839 | F46: PRIE-LEADER-03-9-4 | G46: 300948606 | H46: UAB DU Medu | I46: UAB DU Medu verslo plėtra ir naujų darbo vietų kūrimas | J46: 88527.78 | K46: PRIE-LEADER-20VVG-03-01 | L46: 20VS-PV-25-2-03546-PR001
B47: 33. | C47: 9 | D47: 45839 | E47: 45839 | F47: PRIE-LEADER-03-9-5 | G47: 47706230690 | H47: FA | I47: Gamtos SPA | J47: 45641.5 | K47: PRIE-LEADER-20VVG-03-01 | L47: 20VS-PV-25-2-03541-PR001
B48: 34. | C48: 9 | D48: 45839 | E48: 45839 | F48: PRIE-LEADER-03-9-6 | G48: 49305180662 | H48: FA | I48: Kaimo turizmo verslo pradžia | J48: 49969.72 | K48: PRIE-LEADER-20VVG-03-01 | L48: 20VS-PV-25-2-03543-PR001
B49: 35. | C49: 9 | D49: 45839 | E49: 45839 | F49: PRIE-LEADER-03-9-7 | G49: 306695234 | H49: MB "Alternatyvi strategija" | I49: Inovatyvūs renginių vaizdo sprendimai | J49: 74873.5 | K49: PRIE-LEADER-20VVG-03-01 | L49: 20VS-PV-25-2-03547-PR001
B50: 36. | C50: 9 | D50: 45839 | E50: 45839 | F50: PRIE-LEADER-03-9-8 | G50: 307233978 | H50: Cosmo Hub MB | I50: Inovatyvios mobilios paslaugos gyvūnų priežiūrai kaimo vietovėse | J50: 89050 | K50: PRIE-LEADER-20VVG-03-01 | L50: 20VS-PV-25-2-03544-PR001
B51: 37. | C51: 11 | D51: 45880 | E51: 45880 | F51: PRIE-LEADER-05-11-1 | G51: 38804141170 | H51: Ūkininkas FA | I51: ='[2]1-2l_Titulinis'!$E$34 -> Šiuolaikinės vikšrinės technikos diegimas kaimo žemės ūkio versle | J51: 75701.62 | K51: PRIE-LEADER-20VVG-05
B52: 38. | C52: 11 | D52: 45880 | E52: 45880 | F52: PRIE-LEADER-05-11-2 | G52: 39201060836 | H52: Ūkininkas FA | I52: Mėsos ir grybų perdirbimo verslo kūrimas Prienų rajone | J52: 74071.4 | K52: PRIE-LEADER-20VVG-05
B53: 39. | C53: 12 | D53: 45880 | E53: 45880 | F53: PRIE-LEADER-06-12-1 | G53: 307334475 | H53: VšĮ "Pieva žydi" | I53: "Poilsis gamtoje" | J53: 99569.75 | K53: PRIE-LEADER-20VVG-06
B54: 40. | C54: 12 | D54: 45880 | E54: 45880 | F54: PRIE-LEADER-06-12-2 | G54: 306109034 | H54: VšĮ Pakuonio globos namai | I54: VšĮ Pakuonioglobos namai neįgaliųjų pavėžėjimo paslaugų verslo pradžia | J54: 100000 | K54: PRIE-LEADER-20VVG-06 | Q54: =SUM(Q15:Q42) -> 86193.727
B55: Ši dalis pildoma registruojant visas gautas paraiškas ir teikiamas visas ŽURNALAS su užregistuotomis paraiškomis per 2 d.d. pasibaigus kvietimui | M55: pildoma ir karto ir ne vėliau kaip per 1d.d. po atlikto administravimo žingsnio
B56: (sąrašas tęstinis, pildomas registruojant gautas paraiškas/atlikus atitinkamus administravimo žingsnius, teikiamas Agentūrai po kiekvieno kvietimo užregistravus paraiškas arba bet kuriuo metu pagal Agentūros paklausimą)
K59: 2024 m. .......... ..... d. įsakymas Nr. BR1-

Sheet VVG IPP ir faktiniai VPS adm MP
C1: Pildyti iš VVG VPS
C3: Paramos suma, skirta įgyvendinti VPS, Eur | D3: 1164692
C5: Mažiausia VPS biudžeto dalis, skiriama VPS vietos projektų įgyvendinimui, % | D5: 0.8
C6: Mažiausia galima paramos sum skiriama VPS vietos projektų įgyvendinimui, Eur | D6: =D3*D5 -> 931753.6
C7: VPS vietos projektų įgyvendinimo išlaidos pagal pateiktą VPS administravimo išlaidų planą, Eur | D7: =D3-D12-D13 -> 931753.6
C8: VPS vietos projektų įgyvendinimo išlaidų dalis pagal pateiktą VPS administravimo išlaidų planą, % | D8: =D7/D3 -> 0.8
C10: Didžiausia VPS biudžeto dalis, skiriama VPS administravimo išlaidoms, % | D10: 0.2
C11: Didžiausia gaima paramos suma skiriama VPS administravimo išlaidoms, Eur | D11: =D3*D10 -> 232938.4
C12: VPS administravimo išlaidos (vykdymo ir aktyvinimo) pagal pateiktą VPS administravimo išlaidų planą, Eur | D12: 232938.4
C13: VPS administravimo išlaidos (bendradarbiavimo) pagal pateiktą VPS administravimo išlaidų planą, Eur | D13: =E49 -> 0
C14: VPS administravimo išlaidų dalis pagal pateiktą VPS administravimo išlaidų planą, % | D14: =(D12+D13)/D3 -> 0.2
C16: Didžiausia galima VPS administravimo išlaidoms taikoma FN, % | D16: =D10/D5 -> 0.25
C17: Pagal VPS administravimo išlaidų planą nustatyta ir VPS administravimo išlaidoms taikoma FN | D17: =D12/D7 -> 0.25
C20: Planuojamo MP data | D20: Planuojamo MP suma | E20: Faktinė patvrtinto MP suma | F20: Avanso užskaitos pradžios data suderinti su NMA
B21: Avansas | C21: 45306 | D21: 100000 | E21: 68600 | F21: =+E31-E21 -> 86894.237 | G21: Kontrolė su avansu
B22: MP1 | D22: 30000 | E22: =+SUM('Paraiškų žurnalas'!Q15:Q35) -> 77444.162 | G22: Atsikelia iš 1-o psl.
B23: MP2 | D23: 30000 | E23: =+SUM('Paraiškų žurnalas'!Q15:Q35)-E22 -> 0
B24: MP3 | D24: 30000 | E24: =+SUM('Paraiškų žurnalas'!Q15:Q33)-E22-E23-E24 -> 0
B25: MP4 | D25: 30000 | E25: =+SUM('Paraiškų žurnalas'!Q16:Q34)-E23-E24-E25 -> 0
B26: MP5 | D26: 30000 | E26: =+SUM('Paraiškų žurnalas'!Q17:Q35)-E24-E25-E26 -> 0 | F26: planuojama po 4MP
B27: MP6 | D27: 30000 | E27: =+SUM('Paraiškų žurnalas'!Q18:Q36)-E25-E26-E27 -> 0
B28: MP7 | D28: 30000 | E28: =+SUM('Paraiškų žurnalas'!Q19:Q40)-E26-E27-E28 -> 0
B29: MP8 | D29: 22938.4 | E29: =+SUM('Paraiškų žurnalas'!Q20:Q41)-E27-E28-E29 -> 0
C30: Viso | D30: =+SUM(D22:D29) -> 232938.4 | E30: =+SUM(E22:E29) -> 77444.162
C31: Kontrolė su IPP-likutis | E31: =+D12-E30 -> 155494.24
